BEGIN:VCALENDAR
VERSION:2.0
PRODID:icalendar-ruby
CALSCALE:GREGORIAN
METHOD:PUBLISH
BEGIN:VTIMEZONE
TZID:Europe/Amsterdam
END:VTIMEZONE
BEGIN:VEVENT
DTSTAMP:20260421T091527Z
UID:8b736630-4fab-44ab-a1ff-aab45cf274e8
DTSTART:20260414T220000
DTEND:20260414T230000
CLASS:PUBLIC
DESCRIPTION:Poule: G
LOCATION:Hal 2 - Veld: 1
STATUS:CONFIRMED
SUMMARY:Van Slag: Ballerina's  - Ball me maybe
TRANSP:TRANSPARENT
END:VEVENT
END:VCALENDAR
