BEGIN:VCALENDAR
VERSION:2.0
PRODID:icalendar-ruby
CALSCALE:GREGORIAN
METHOD:PUBLISH
BEGIN:VTIMEZONE
TZID:Europe/Amsterdam
END:VTIMEZONE
BEGIN:VEVENT
DTSTAMP:20260421T082913Z
UID:66d8945d-a640-45f2-8ebf-c336b7ba463c
DTSTART:20260414T220000
DTEND:20260414T230000
CLASS:PUBLIC
DESCRIPTION:Poule: G
LOCATION:Hal 2 - Veld: 2
STATUS:CONFIRMED
SUMMARY:Van Slag: Passanova's  - Veni Vidi Volley
TRANSP:TRANSPARENT
END:VEVENT
END:VCALENDAR
