BEGIN:VCALENDAR
VERSION:2.0
PRODID:icalendar-ruby
CALSCALE:GREGORIAN
METHOD:PUBLISH
BEGIN:VTIMEZONE
TZID:Europe/Amsterdam
END:VTIMEZONE
BEGIN:VEVENT
DTSTAMP:20260421T091446Z
UID:31291e3e-7d46-49d8-8544-4c850199a42c
DTSTART:20260414T220000
DTEND:20260414T230000
CLASS:PUBLIC
DESCRIPTION:Poule: G
LOCATION:Hal 2 - Veld: 3
STATUS:CONFIRMED
SUMMARY:Van Slag: Ballelujah - Balbapapa
TRANSP:TRANSPARENT
END:VEVENT
END:VCALENDAR
