BEGIN:VCALENDAR
VERSION:2.0
PRODID:icalendar-ruby
CALSCALE:GREGORIAN
METHOD:PUBLISH
BEGIN:VTIMEZONE
TZID:Europe/Amsterdam
END:VTIMEZONE
BEGIN:VEVENT
DTSTAMP:20260421T091601Z
UID:5ca9c98f-8c7b-4b34-92e7-bb87baf61ced
DTSTART:20260421T200000
DTEND:20260421T210000
CLASS:PUBLIC
DESCRIPTION:Poule: G
LOCATION:Hal 1 - Veld: 1
STATUS:CONFIRMED
SUMMARY:Van Slag: Ballelujah - Passanova's 
TRANSP:TRANSPARENT
END:VEVENT
END:VCALENDAR
