BEGIN:VCALENDAR
VERSION:2.0
PRODID:icalendar-ruby
CALSCALE:GREGORIAN
METHOD:PUBLISH
BEGIN:VTIMEZONE
TZID:Europe/Amsterdam
END:VTIMEZONE
BEGIN:VEVENT
DTSTAMP:20260421T082913Z
UID:68413112-1cfb-4a41-a54e-1a57b05ca19c
DTSTART:20260421T200000
DTEND:20260421T210000
CLASS:PUBLIC
DESCRIPTION:Poule: G
LOCATION:Hal 1 - Veld: 2
STATUS:CONFIRMED
SUMMARY:Van Slag: Ballerina's  - Balbapapa
TRANSP:TRANSPARENT
END:VEVENT
END:VCALENDAR
