BEGIN:VCALENDAR
VERSION:2.0
PRODID:icalendar-ruby
CALSCALE:GREGORIAN
METHOD:PUBLISH
BEGIN:VTIMEZONE
TZID:Europe/Amsterdam
END:VTIMEZONE
BEGIN:VEVENT
DTSTAMP:20260421T082909Z
UID:9b31b9be-1d73-4a8c-b9b3-6591caecf7cf
DTSTART:20260512T210000
DTEND:20260512T220000
CLASS:PUBLIC
DESCRIPTION:Poule: G
LOCATION:Hal 1 - Veld: 2
STATUS:CONFIRMED
SUMMARY:Van Slag: Ballelujah - Veni Vidi Volley
TRANSP:TRANSPARENT
END:VEVENT
END:VCALENDAR
