BEGIN:VCALENDAR
VERSION:2.0
PRODID:icalendar-ruby
CALSCALE:GREGORIAN
METHOD:PUBLISH
BEGIN:VTIMEZONE
TZID:Europe/Amsterdam
END:VTIMEZONE
BEGIN:VEVENT
DTSTAMP:20260421T082913Z
UID:04c4f510-eb18-4443-bccd-db13e226a4fa
DTSTART:20260519T190000
DTEND:20260519T200000
CLASS:PUBLIC
DESCRIPTION:Poule: G
LOCATION:Hal 1 - Veld: 3
STATUS:CONFIRMED
SUMMARY:Van Slag: Passanova's  - Ball me maybe
TRANSP:TRANSPARENT
END:VEVENT
END:VCALENDAR
